5.00000000000000
0.0
0.0
-5.00000000000000
406250.00000000000000
4631505.00000000000000
