5,0000000000
0,0000000000
0,0000000000
-5,0000000000
401110,0000000000
4631985,0000000000
